BEGIN:VCALENDAR
VERSION:2.0
PRODID:-//AITERTC ETS - ECPv6.15.18//NONSGML v1.0//EN
CALSCALE:GREGORIAN
METHOD:PUBLISH
X-WR-CALNAME:AITERTC ETS
X-ORIGINAL-URL:https://www.aitertc.it/web
X-WR-CALDESC:Events for AITERTC ETS
REFRESH-INTERVAL;VALUE=DURATION:PT1H
X-Robots-Tag:noindex
X-PUBLISHED-TTL:PT1H
BEGIN:VTIMEZONE
TZID:Europe/Paris
BEGIN:DAYLIGHT
TZOFFSETFROM:+0100
TZOFFSETTO:+0200
TZNAME:CEST
DTSTART:20200329T010000
END:DAYLIGHT
BEGIN:STANDARD
TZOFFSETFROM:+0200
TZOFFSETTO:+0100
TZNAME:CET
DTSTART:20201025T010000
END:STANDARD
BEGIN:DAYLIGHT
TZOFFSETFROM:+0100
TZOFFSETTO:+0200
TZNAME:CEST
DTSTART:20210328T010000
END:DAYLIGHT
BEGIN:STANDARD
TZOFFSETFROM:+0200
TZOFFSETTO:+0100
TZNAME:CET
DTSTART:20211031T010000
END:STANDARD
BEGIN:DAYLIGHT
TZOFFSETFROM:+0100
TZOFFSETTO:+0200
TZNAME:CEST
DTSTART:20220327T010000
END:DAYLIGHT
BEGIN:STANDARD
TZOFFSETFROM:+0200
TZOFFSETTO:+0100
TZNAME:CET
DTSTART:20221030T010000
END:STANDARD
BEGIN:DAYLIGHT
TZOFFSETFROM:+0100
TZOFFSETTO:+0200
TZNAME:CEST
DTSTART:20230326T010000
END:DAYLIGHT
BEGIN:STANDARD
TZOFFSETFROM:+0200
TZOFFSETTO:+0100
TZNAME:CET
DTSTART:20231029T010000
END:STANDARD
BEGIN:DAYLIGHT
TZOFFSETFROM:+0100
TZOFFSETTO:+0200
TZNAME:CEST
DTSTART:20240331T010000
END:DAYLIGHT
BEGIN:STANDARD
TZOFFSETFROM:+0200
TZOFFSETTO:+0100
TZNAME:CET
DTSTART:20241027T010000
END:STANDARD
END:VTIMEZONE
BEGIN:VEVENT
DTSTART;TZID=Europe/Paris:20231111T083000
DTEND;TZID=Europe/Paris:20231111T173000
DTSTAMP:20260419T154457
CREATED:20240607T115218Z
LAST-MODIFIED:20240618T121043Z
UID:15680-1699691400-1699723800@www.aitertc.it
SUMMARY:L’impatto dell’IA nell’acquisizione delle competenze avanzate del TSRM
DESCRIPTION:Evento residenziale \nmore info
URL:https://www.aitertc.it/web/event/limpatto-dellia-nellacquisizione-delle-competenze-avanzate-del-tsrm/
CATEGORIES:evento
ATTACH;FMTTYPE=image/png:https://www.aitertc.it/web/wp-content/uploads/2024/06/Presentazione-di-PowerPoint-AITeRTC-per-Calendario-sito-bis.pptx-07_06_2024-13_59_09.png
END:VEVENT
BEGIN:VEVENT
DTSTART;VALUE=DATE:20231108
DTEND;VALUE=DATE:20231109
DTSTAMP:20260419T154457
CREATED:20240607T121410Z
LAST-MODIFIED:20240618T122136Z
UID:15686-1699401600-1699487999@www.aitertc.it
SUMMARY:International Day of Radiology – 8 novembre 2023
DESCRIPTION:Celebriamo insieme l’anniversario della scoperta dei Raggi X da parte del fisico tedesco Wilhelm Conrad Röntgen
URL:https://www.aitertc.it/web/event/international-day-of-radiology-8-novembre-2023/
CATEGORIES:evento
ATTACH;FMTTYPE=image/png:https://www.aitertc.it/web/wp-content/uploads/2024/06/Presentazione-di-PowerPoint-AITeRTC-per-Calendario-sito-bis.pptx-07_06_2024-14_08_25.png
END:VEVENT
BEGIN:VEVENT
DTSTART;TZID=Europe/Paris:20231103T120000
DTEND;TZID=Europe/Paris:20231104T190000
DTSTAMP:20260419T154457
CREATED:20240610T093303Z
LAST-MODIFIED:20240618T121107Z
UID:15735-1699012800-1699124400@www.aitertc.it
SUMMARY:1° Congresso Nazionale AITeRTC
DESCRIPTION:1° Congresso Nazionale AITeRTC \nmore info
URL:https://www.aitertc.it/web/event/1-congresso-nazionale-aitertc/
CATEGORIES:congresso
ATTACH;FMTTYPE=image/png:https://www.aitertc.it/web/wp-content/uploads/2024/06/Presentazione-di-PowerPoint-AITeRTC-per-Calendario-sito-bis.pptx-10_06_2024-11_36_00.png
END:VEVENT
BEGIN:VEVENT
DTSTART;TZID=Europe/Paris:20231028T080000
DTEND;TZID=Europe/Paris:20231028T173000
DTSTAMP:20260419T154457
CREATED:20240607T113527Z
LAST-MODIFIED:20240618T121125Z
UID:15677-1698480000-1698514200@www.aitertc.it
SUMMARY:Heart & Brain disease Congress
DESCRIPTION:IV corso multidisciplinare \nmore info
URL:https://www.aitertc.it/web/event/heart-brain-disease-congress/
CATEGORIES:congresso
ATTACH;FMTTYPE=image/png:https://www.aitertc.it/web/wp-content/uploads/2024/06/Presentazione-di-PowerPoint-AITeRTC-per-Calendario-sito-bis.pptx-07_06_2024-13_49_05.png
END:VEVENT
BEGIN:VEVENT
DTSTART;TZID=Europe/Paris:20230929T153000
DTEND;TZID=Europe/Paris:20230930T180000
DTSTAMP:20260419T154457
CREATED:20240610T112231Z
LAST-MODIFIED:20240618T121321Z
UID:15780-1696001400-1696096800@www.aitertc.it
SUMMARY:3° Congresso Nazionale FNO TSRM e PSTRP
DESCRIPTION:3° Congresso Nazionale FNO TSRM e PSTRP
URL:https://www.aitertc.it/web/event/3-congresso-nazionale-fno-tsrm-e-pstrp/
CATEGORIES:congresso
ATTACH;FMTTYPE=image/png:https://www.aitertc.it/web/wp-content/uploads/2024/06/Presentazione-di-PowerPoint-AITeRTC-per-Calendario-sito-bis.pptx-10_06_2024-13_20_19.png
END:VEVENT
BEGIN:VEVENT
DTSTART;TZID=Europe/Paris:20230623T090000
DTEND;TZID=Europe/Paris:20230623T170000
DTSTAMP:20260419T154457
CREATED:20240607T104341Z
LAST-MODIFIED:20240618T121340Z
UID:15667-1687510800-1687539600@www.aitertc.it
SUMMARY:Knowing To Grow. Il multipotenziale delle competenze – I edizione
DESCRIPTION:Prima edizione del congresso itinerante FASTeR \nmore info
URL:https://www.aitertc.it/web/event/knowing-to-grow-il-multipotenziale-delle-competenze-i-edizione/
CATEGORIES:congresso
ATTACH;FMTTYPE=image/png:https://www.aitertc.it/web/wp-content/uploads/2024/06/Presentazione-di-PowerPoint-AITeRTC-per-Calendario-sito-bis.pptx-07_06_2024-12_42_24.png
END:VEVENT
BEGIN:VEVENT
DTSTART;TZID=Europe/Paris:20230513T083000
DTEND;TZID=Europe/Paris:20230513T133000
DTSTAMP:20260419T154457
CREATED:20240610T064923Z
LAST-MODIFIED:20240618T121354Z
UID:15717-1683966600-1683984600@www.aitertc.it
SUMMARY:Ottimizziamo in Team: Un nuovo futuro per la Radiologia
DESCRIPTION:Corso residenziale patrocinato AITeRTC \nmore info
URL:https://www.aitertc.it/web/event/ottimizziamo-in-team-un-nuovo-futuro-per-la-radiologia/
CATEGORIES:evento
ATTACH;FMTTYPE=image/png:https://www.aitertc.it/web/wp-content/uploads/2024/06/Presentazione-di-PowerPoint-AITeRTC-per-Calendario-sito-bis.pptx-10_06_2024-08_48_03.png
END:VEVENT
BEGIN:VEVENT
DTSTART;TZID=Europe/Paris:20230509T083000
DTEND;TZID=Europe/Paris:20230509T160000
DTSTAMP:20260419T154457
CREATED:20240610T062945Z
LAST-MODIFIED:20240618T121406Z
UID:15714-1683621000-1683648000@www.aitertc.it
SUMMARY:AI Intelligenza artificiale e applicazioni cliniche: le prospettive all’orizzonte in Radiologia
DESCRIPTION:Corso residenziale patrocinato AITeRTC \nmore info
URL:https://www.aitertc.it/web/event/ai-intelligenza-artificiale-e-applicazioni-cliniche-le-prospettive-allorizzonte-in-radiologia/
CATEGORIES:evento
ATTACH;FMTTYPE=image/png:https://www.aitertc.it/web/wp-content/uploads/2024/06/Presentazione-di-PowerPoint-AITeRTC-per-Calendario-sito-bis.pptx-10_06_2024-08_39_21.png
END:VEVENT
BEGIN:VEVENT
DTSTART;TZID=Europe/Paris:20230325T083000
DTEND;TZID=Europe/Paris:20230325T173000
DTSTAMP:20260419T154457
CREATED:20240610T065559Z
LAST-MODIFIED:20240618T121417Z
UID:15720-1679733000-1679765400@www.aitertc.it
SUMMARY:Evoluzione delle tecniche e tecnologie radiologiche: nuove sfide per il TSRM
DESCRIPTION:Evento residenziale \nmore info
URL:https://www.aitertc.it/web/event/evoluzione-delle-tecniche-e-tecnologie-radiologiche-nuove-sfide-per-il-tsrm/
CATEGORIES:evento
ATTACH;FMTTYPE=image/png:https://www.aitertc.it/web/wp-content/uploads/2024/06/Presentazione-di-PowerPoint-AITeRTC-per-Calendario-sito-bis.pptx-10_06_2024-08_55_51.png
END:VEVENT
BEGIN:VEVENT
DTSTART;TZID=Europe/Paris:20230324T090000
DTEND;TZID=Europe/Paris:20230324T130000
DTSTAMP:20260419T154457
CREATED:20240610T095409Z
LAST-MODIFIED:20240618T122808Z
UID:15742-1679648400-1679662800@www.aitertc.it
SUMMARY:Lo stato dell’arte della TC industriale: sistemi\, applicazioni e post-processing avanzato - parte 2
DESCRIPTION:Corso residenziale \nmore info
URL:https://www.aitertc.it/web/event/lo-stato-dellarte-della-tc-industriale-sistemi-applicazioni-e-post-processing-avanzato-parte-2/
CATEGORIES:evento
ATTACH;FMTTYPE=image/png:https://www.aitertc.it/web/wp-content/uploads/2024/06/Presentazione-di-PowerPoint-AITeRTC-per-Calendario-sito-bis.pptx-10_06_2024-11_51_34.png
END:VEVENT
BEGIN:VEVENT
DTSTART;TZID=Europe/Paris:20230317T090000
DTEND;TZID=Europe/Paris:20230317T130000
DTSTAMP:20260419T154457
CREATED:20240610T095258Z
LAST-MODIFIED:20240618T122752Z
UID:15739-1679043600-1679058000@www.aitertc.it
SUMMARY:Lo stato dell’arte della TC industriale: sistemi\, applicazioni e post-processing avanzato - parte 1
DESCRIPTION:Corso residenziale \nmore info
URL:https://www.aitertc.it/web/event/lo-stato-dellarte-della-tc-industriale-sistemi-applicazioni-e-post-processing-avanzato-parte-1/
CATEGORIES:evento
ATTACH;FMTTYPE=image/png:https://www.aitertc.it/web/wp-content/uploads/2024/06/Presentazione-di-PowerPoint-AITeRTC-per-Calendario-sito-bis.pptx-10_06_2024-11_51_34.png
END:VEVENT
BEGIN:VEVENT
DTSTART;TZID=Europe/Paris:20230204T080000
DTEND;TZID=Europe/Paris:20230204T190000
DTSTAMP:20260419T154457
CREATED:20240610T095544Z
LAST-MODIFIED:20240618T122838Z
UID:15744-1675497600-1675537200@www.aitertc.it
SUMMARY:Corso base di TC Cuore
DESCRIPTION:Corso residenziale patrocinato AITeRTC \nmore info
URL:https://www.aitertc.it/web/event/corso-base-di-tc-cuore/
CATEGORIES:evento
ATTACH;FMTTYPE=image/png:https://www.aitertc.it/web/wp-content/uploads/2024/06/Presentazione-di-PowerPoint-AITeRTC-per-Calendario-sito-bis.pptx-10_06_2024-12_01_35.png
END:VEVENT
BEGIN:VEVENT
DTSTART;TZID=Europe/Paris:20221103T090000
DTEND;TZID=Europe/Paris:20221104T130000
DTSTAMP:20260419T154457
CREATED:20240610T092919Z
LAST-MODIFIED:20240618T123059Z
UID:15732-1667466000-1667566800@www.aitertc.it
SUMMARY:La radiologia sotto i portici. Le urgenze in radiologia. Dalla diagnosi al trattamento interventistico
DESCRIPTION:Evento residenziale\nmore info
URL:https://www.aitertc.it/web/event/la-radiologia-sotto-i-portici-le-urgenze-in-radiologia-dalla-diagnosi-al-trattamento-interventistico/
CATEGORIES:congresso
ATTACH;FMTTYPE=image/png:https://www.aitertc.it/web/wp-content/uploads/2024/06/Presentazione-di-PowerPoint-AITeRTC-per-Calendario-sito-bis.pptx-10_06_2024-11_29_08.png
END:VEVENT
BEGIN:VEVENT
DTSTART;TZID=Europe/Paris:20221022T080000
DTEND;TZID=Europe/Paris:20221022T180000
DTSTAMP:20260419T154457
CREATED:20240610T092359Z
LAST-MODIFIED:20240618T123146Z
UID:15729-1666425600-1666461600@www.aitertc.it
SUMMARY:Heart & Brain disease Congress
DESCRIPTION:III corso multidisciplinare \nmore info
URL:https://www.aitertc.it/web/event/heart-brain-disease-congress-2/
CATEGORIES:congresso
ATTACH;FMTTYPE=image/png:https://www.aitertc.it/web/wp-content/uploads/2024/06/Presentazione-di-PowerPoint-AITeRTC-per-Calendario-sito-bis.pptx-10_06_2024-11_23_41.png
END:VEVENT
BEGIN:VEVENT
DTSTART;TZID=Europe/Paris:20221015T083000
DTEND;TZID=Europe/Paris:20221015T180000
DTSTAMP:20260419T154457
CREATED:20240610T091808Z
LAST-MODIFIED:20240618T123217Z
UID:15726-1665822600-1665856800@www.aitertc.it
SUMMARY:Gestione della dose in TC Body
DESCRIPTION:Corso residenziale patrocinato AITeRTC \nmore info
URL:https://www.aitertc.it/web/event/gestione-della-dose-in-tc-body/
CATEGORIES:evento
ATTACH;FMTTYPE=image/png:https://www.aitertc.it/web/wp-content/uploads/2024/06/Presentazione-di-PowerPoint-AITeRTC-per-Calendario-sito-bis.pptx-10_06_2024-09_59_30.png
END:VEVENT
BEGIN:VEVENT
DTSTART;TZID=Europe/Paris:20220519T170000
DTEND;TZID=Europe/Paris:20220519T190000
DTSTAMP:20260419T154457
CREATED:20240610T103028Z
LAST-MODIFIED:20240618T123549Z
UID:15755-1652979600-1652986800@www.aitertc.it
SUMMARY:Dual Energy CT: il potenziale degli spettri in sanità. Applicazioni cliniche e stato dell’arte
DESCRIPTION:Webinar organizzato da AITeRTC \nmore info
URL:https://www.aitertc.it/web/event/dual-energy-ct-il-potenziale-degli-spettri-in-sanita-applicazioni-cliniche-e-stato-dellarte/
CATEGORIES:webinar
ATTACH;FMTTYPE=image/png:https://www.aitertc.it/web/wp-content/uploads/2024/06/Presentazione-di-PowerPoint-AITeRTC-per-Calendario-sito-bis.pptx-10_06_2024-12_29_29.png
END:VEVENT
BEGIN:VEVENT
DTSTART;TZID=Europe/Paris:20220512T170000
DTEND;TZID=Europe/Paris:20220512T190000
DTSTAMP:20260419T154457
CREATED:20240610T102654Z
LAST-MODIFIED:20240618T123703Z
UID:15752-1652374800-1652382000@www.aitertc.it
SUMMARY:Photon Counting CT: il potenziale degli spettri in sanità e nella industria
DESCRIPTION:Webinar organizzato da AITeRTC \nmore info
URL:https://www.aitertc.it/web/event/photon-counting-ct-il-potenziale-degli-spettri-in-sanita-e-nella-industria/
CATEGORIES:webinar
ATTACH;FMTTYPE=image/png:https://www.aitertc.it/web/wp-content/uploads/2024/06/Presentazione-di-PowerPoint-AITeRTC-per-Calendario-sito-bis.pptx-10_06_2024-12_24_31.png
END:VEVENT
BEGIN:VEVENT
DTSTART;TZID=Europe/Paris:20220409T080000
DTEND;TZID=Europe/Paris:20220409T193000
DTSTAMP:20260419T154457
CREATED:20240610T101242Z
LAST-MODIFIED:20240618T123751Z
UID:15749-1649491200-1649532600@www.aitertc.it
SUMMARY:Stroke Imaging: tecniche diagnostiche dagli ospedali periferici alle stroke unit
DESCRIPTION:Corso residenziale patrocinato AITeRTC \nmore info
URL:https://www.aitertc.it/web/event/stroke-imaging-tecniche-diagnostiche-dagli-ospedali-periferici-alle-stroke-unit/
CATEGORIES:evento
ATTACH;FMTTYPE=image/png:https://www.aitertc.it/web/wp-content/uploads/2024/06/Presentazione-di-PowerPoint-AITeRTC-per-Calendario-sito-bis.pptx-10_06_2024-13_14_05.png
END:VEVENT
BEGIN:VEVENT
DTSTART;TZID=Europe/Paris:20211111T170000
DTEND;TZID=Europe/Paris:20211111T183000
DTSTAMP:20260419T154457
CREATED:20240610T104351Z
LAST-MODIFIED:20240618T123821Z
UID:15764-1636650000-1636655400@www.aitertc.it
SUMMARY:Cardiac Imaging: Diagnostiche a confronto – 3° parte – Cardio-TC
DESCRIPTION:Webinar patrocinato AITeRTC \nmore info
URL:https://www.aitertc.it/web/event/cardiac-imaging-diagnostiche-a-confronto-3-parte-cardio-tc/
CATEGORIES:webinar
ATTACH;FMTTYPE=image/png:https://www.aitertc.it/web/wp-content/uploads/2024/06/Presentazione-di-PowerPoint-AITeRTC-per-Calendario-sito-bis.pptx-10_06_2024-12_39_48.png
END:VEVENT
BEGIN:VEVENT
DTSTART;TZID=Europe/Paris:20211104T170000
DTEND;TZID=Europe/Paris:20211104T183000
DTSTAMP:20260419T154457
CREATED:20240610T104209Z
LAST-MODIFIED:20240618T123845Z
UID:15761-1636045200-1636050600@www.aitertc.it
SUMMARY:Cardiac Imaging: Diagnostiche a confronto - 2° parte - Cardio-MN
DESCRIPTION:Webinar patrocinato AITeRTC \nmore info
URL:https://www.aitertc.it/web/event/cardiac-imaging-diagnostiche-a-confronto-2-parte-cardio-mn/
CATEGORIES:webinar
ATTACH;FMTTYPE=image/png:https://www.aitertc.it/web/wp-content/uploads/2024/06/Presentazione-di-PowerPoint-AITeRTC-per-Calendario-sito-bis.pptx-10_06_2024-13_11_08.png
END:VEVENT
BEGIN:VEVENT
DTSTART;TZID=Europe/Paris:20211021T170000
DTEND;TZID=Europe/Paris:20211021T183000
DTSTAMP:20260419T154457
CREATED:20240610T104001Z
LAST-MODIFIED:20240618T123906Z
UID:15758-1634835600-1634841000@www.aitertc.it
SUMMARY:Cardiac Imaging: Diagnostiche a confronto - 1° parte - Cardio-RM
DESCRIPTION:Webinar patrocinato AITeRTC \nmore info
URL:https://www.aitertc.it/web/event/cardiac-imaging-diagnostiche-a-confronto-1-parte-cardio-rm/
CATEGORIES:webinar
ATTACH;FMTTYPE=image/png:https://www.aitertc.it/web/wp-content/uploads/2024/06/Presentazione-di-PowerPoint-AITeRTC-per-Calendario-sito-bis.pptx-10_06_2024-12_36_08.png
END:VEVENT
BEGIN:VEVENT
DTSTART;TZID=Europe/Paris:20211004T170000
DTEND;TZID=Europe/Paris:20211004T193000
DTSTAMP:20260419T154457
CREATED:20240610T110309Z
LAST-MODIFIED:20240618T123949Z
UID:15774-1633366800-1633375800@www.aitertc.it
SUMMARY:Angio-TC: non solo un protocollo – 3° parte – Casi pratici
DESCRIPTION:Webinar organizzato da AITeRTC \nmore info
URL:https://www.aitertc.it/web/event/angio-tc-non-solo-un-protocollo-3-parte-casi-pratici/
CATEGORIES:webinar
ATTACH;FMTTYPE=image/png:https://www.aitertc.it/web/wp-content/uploads/2024/06/Presentazione-di-PowerPoint-AITeRTC-per-Calendario-sito-bis.pptx-10_06_2024-13_05_38.png
END:VEVENT
BEGIN:VEVENT
DTSTART;TZID=Europe/Paris:20210927T170000
DTEND;TZID=Europe/Paris:20210927T193000
DTSTAMP:20260419T154457
CREATED:20240610T105117Z
LAST-MODIFIED:20240618T124010Z
UID:15770-1632762000-1632771000@www.aitertc.it
SUMMARY:Angio-TC: non solo un protocollo - 2° parte - Paziente e MdC
DESCRIPTION:Webinar organizzato da AITeRTC \nmore info
URL:https://www.aitertc.it/web/event/angio-tc-non-solo-un-protocollo-2-parte-paziente-e-mdc/
CATEGORIES:webinar
ATTACH;FMTTYPE=image/png:https://www.aitertc.it/web/wp-content/uploads/2024/06/Presentazione-di-PowerPoint-AITeRTC-per-Calendario-sito-bis.pptx-10_06_2024-12_56_10.png
END:VEVENT
BEGIN:VEVENT
DTSTART;TZID=Europe/Paris:20210920T170000
DTEND;TZID=Europe/Paris:20210920T190000
DTSTAMP:20260419T154457
CREATED:20240610T104954Z
LAST-MODIFIED:20240618T124033Z
UID:15767-1632157200-1632164400@www.aitertc.it
SUMMARY:Angio-TC: non solo un protocollo - 1° parte - Tecnologia hardware e software
DESCRIPTION:Webinar organizzato da AITeRTC \nmore info
URL:https://www.aitertc.it/web/event/angio-tc-non-solo-un-protocollo-1-parte-tecnologia-hardware-e-software/
CATEGORIES:webinar
ATTACH;FMTTYPE=image/png:https://www.aitertc.it/web/wp-content/uploads/2024/06/Presentazione-di-PowerPoint-AITeRTC-per-Calendario-sito-bis.pptx-10_06_2024-12_49_30.png
END:VEVENT
BEGIN:VEVENT
DTSTART;TZID=Europe/Paris:20210524T170000
DTEND;TZID=Europe/Paris:20210524T190000
DTSTAMP:20260419T154457
CREATED:20240610T072112Z
LAST-MODIFIED:20240618T124135Z
UID:15723-1621875600-1621882800@www.aitertc.it
SUMMARY:Il trauma maggiore in TC: classificazione e raccomandazioni
DESCRIPTION:Webinar organizzato da AITeRTC \nmore info
URL:https://www.aitertc.it/web/event/il-trauma-maggiore-in-tc-classificazione-e-raccomandazioni/
CATEGORIES:webinar
ATTACH;FMTTYPE=image/png:https://www.aitertc.it/web/wp-content/uploads/2024/06/Presentazione-di-PowerPoint-AITeRTC-per-Calendario-sito-bis.pptx-10_06_2024-09_20_48.png
END:VEVENT
END:VCALENDAR