BEGIN:VCALENDAR
VERSION:2.0
PRODID:-//AITERTC ETS - ECPv6.15.18//NONSGML v1.0//EN
CALSCALE:GREGORIAN
METHOD:PUBLISH
X-ORIGINAL-URL:https://www.aitertc.it/web
X-WR-CALDESC:Events for AITERTC ETS
REFRESH-INTERVAL;VALUE=DURATION:PT1H
X-Robots-Tag:noindex
X-PUBLISHED-TTL:PT1H
BEGIN:VTIMEZONE
TZID:Europe/Paris
BEGIN:DAYLIGHT
TZOFFSETFROM:+0100
TZOFFSETTO:+0200
TZNAME:CEST
DTSTART:20200329T010000
END:DAYLIGHT
BEGIN:STANDARD
TZOFFSETFROM:+0200
TZOFFSETTO:+0100
TZNAME:CET
DTSTART:20201025T010000
END:STANDARD
BEGIN:DAYLIGHT
TZOFFSETFROM:+0100
TZOFFSETTO:+0200
TZNAME:CEST
DTSTART:20210328T010000
END:DAYLIGHT
BEGIN:STANDARD
TZOFFSETFROM:+0200
TZOFFSETTO:+0100
TZNAME:CET
DTSTART:20211031T010000
END:STANDARD
BEGIN:DAYLIGHT
TZOFFSETFROM:+0100
TZOFFSETTO:+0200
TZNAME:CEST
DTSTART:20220327T010000
END:DAYLIGHT
BEGIN:STANDARD
TZOFFSETFROM:+0200
TZOFFSETTO:+0100
TZNAME:CET
DTSTART:20221030T010000
END:STANDARD
END:VTIMEZONE
BEGIN:VEVENT
DTSTART;TZID=Europe/Paris:20211104T170000
DTEND;TZID=Europe/Paris:20211104T183000
DTSTAMP:20260425T143848
CREATED:20240610T104209Z
LAST-MODIFIED:20240618T123845Z
UID:15761-1636045200-1636050600@www.aitertc.it
SUMMARY:Cardiac Imaging: Diagnostiche a confronto - 2° parte - Cardio-MN
DESCRIPTION:Webinar patrocinato AITeRTC \nmore info
URL:https://www.aitertc.it/web/event/cardiac-imaging-diagnostiche-a-confronto-2-parte-cardio-mn/
CATEGORIES:webinar
ATTACH;FMTTYPE=image/png:https://www.aitertc.it/web/wp-content/uploads/2024/06/Presentazione-di-PowerPoint-AITeRTC-per-Calendario-sito-bis.pptx-10_06_2024-13_11_08.png
END:VEVENT
BEGIN:VEVENT
DTSTART;TZID=Europe/Paris:20211111T170000
DTEND;TZID=Europe/Paris:20211111T183000
DTSTAMP:20260425T143848
CREATED:20240610T104351Z
LAST-MODIFIED:20240618T123821Z
UID:15764-1636650000-1636655400@www.aitertc.it
SUMMARY:Cardiac Imaging: Diagnostiche a confronto – 3° parte – Cardio-TC
DESCRIPTION:Webinar patrocinato AITeRTC \nmore info
URL:https://www.aitertc.it/web/event/cardiac-imaging-diagnostiche-a-confronto-3-parte-cardio-tc/
CATEGORIES:webinar
ATTACH;FMTTYPE=image/png:https://www.aitertc.it/web/wp-content/uploads/2024/06/Presentazione-di-PowerPoint-AITeRTC-per-Calendario-sito-bis.pptx-10_06_2024-12_39_48.png
END:VEVENT
END:VCALENDAR