BEGIN:VCALENDAR
VERSION:2.0
PRODID:-//AITERTC ETS - ECPv6.15.18//NONSGML v1.0//EN
CALSCALE:GREGORIAN
METHOD:PUBLISH
X-WR-CALNAME:AITERTC ETS
X-ORIGINAL-URL:https://www.aitertc.it/web
X-WR-CALDESC:Events for AITERTC ETS
REFRESH-INTERVAL;VALUE=DURATION:PT1H
X-Robots-Tag:noindex
X-PUBLISHED-TTL:PT1H
BEGIN:VTIMEZONE
TZID:Europe/Paris
BEGIN:DAYLIGHT
TZOFFSETFROM:+0100
TZOFFSETTO:+0200
TZNAME:CEST
DTSTART:20230326T010000
END:DAYLIGHT
BEGIN:STANDARD
TZOFFSETFROM:+0200
TZOFFSETTO:+0100
TZNAME:CET
DTSTART:20231029T010000
END:STANDARD
BEGIN:DAYLIGHT
TZOFFSETFROM:+0100
TZOFFSETTO:+0200
TZNAME:CEST
DTSTART:20240331T010000
END:DAYLIGHT
BEGIN:STANDARD
TZOFFSETFROM:+0200
TZOFFSETTO:+0100
TZNAME:CET
DTSTART:20241027T010000
END:STANDARD
BEGIN:DAYLIGHT
TZOFFSETFROM:+0100
TZOFFSETTO:+0200
TZNAME:CEST
DTSTART:20250330T010000
END:DAYLIGHT
BEGIN:STANDARD
TZOFFSETFROM:+0200
TZOFFSETTO:+0100
TZNAME:CET
DTSTART:20251026T010000
END:STANDARD
END:VTIMEZONE
BEGIN:VEVENT
DTSTART;TZID=Europe/Paris:20240419T083000
DTEND;TZID=Europe/Paris:20240419T183000
DTSTAMP:20260423T190127
CREATED:20240607T083602Z
LAST-MODIFIED:20240618T122128Z
UID:15653-1713515400-1713551400@www.aitertc.it
SUMMARY:Cuore e non solo 2024
DESCRIPTION:Evento con partecipazione di membro e collaboratore di AITeRTC \nmore info
URL:https://www.aitertc.it/web/event/cuore-e-non-solo-2024/
CATEGORIES:congresso
ATTACH;FMTTYPE=image/png:https://www.aitertc.it/web/wp-content/uploads/2024/06/Presentazione-di-PowerPoint-AITeRTC-per-Calendario-sito-bis.pptx-07_06_2024-10_35_42.png
END:VEVENT
END:VCALENDAR