BEGIN:VCALENDAR
VERSION:2.0
PRODID:-//AITERTC ETS - ECPv6.15.18//NONSGML v1.0//EN
CALSCALE:GREGORIAN
METHOD:PUBLISH
X-WR-CALNAME:AITERTC ETS
X-ORIGINAL-URL:https://www.aitertc.it/web
X-WR-CALDESC:Events for AITERTC ETS
REFRESH-INTERVAL;VALUE=DURATION:PT1H
X-Robots-Tag:noindex
X-PUBLISHED-TTL:PT1H
BEGIN:VTIMEZONE
TZID:Europe/Paris
BEGIN:DAYLIGHT
TZOFFSETFROM:+0100
TZOFFSETTO:+0200
TZNAME:CEST
DTSTART:20230326T010000
END:DAYLIGHT
BEGIN:STANDARD
TZOFFSETFROM:+0200
TZOFFSETTO:+0100
TZNAME:CET
DTSTART:20231029T010000
END:STANDARD
BEGIN:DAYLIGHT
TZOFFSETFROM:+0100
TZOFFSETTO:+0200
TZNAME:CEST
DTSTART:20240331T010000
END:DAYLIGHT
BEGIN:STANDARD
TZOFFSETFROM:+0200
TZOFFSETTO:+0100
TZNAME:CET
DTSTART:20241027T010000
END:STANDARD
BEGIN:DAYLIGHT
TZOFFSETFROM:+0100
TZOFFSETTO:+0200
TZNAME:CEST
DTSTART:20250330T010000
END:DAYLIGHT
BEGIN:STANDARD
TZOFFSETFROM:+0200
TZOFFSETTO:+0100
TZNAME:CET
DTSTART:20251026T010000
END:STANDARD
END:VTIMEZONE
BEGIN:VEVENT
DTSTART;TZID=Europe/Paris:20241024T083000
DTEND;TZID=Europe/Paris:20241026T150000
DTSTAMP:20260421T032013
CREATED:20240426T090811Z
LAST-MODIFIED:20240906T072653Z
UID:14542-1729758600-1729954800@www.aitertc.it
SUMMARY:ESCR Annual Meeting 2024
DESCRIPTION:Annual Meeting 2024 di ESCR (European Society of Cardiovascular Radiology) \nmore info sull’evento \nPartecipa al Bando di concorso per il finanziamento alla partecipazione al Congresso
URL:https://www.aitertc.it/web/event/escr-annual-meeting-2024/
CATEGORIES:congresso
ATTACH;FMTTYPE=image/jpeg:https://www.aitertc.it/web/wp-content/uploads/2024/04/escr.jpg
END:VEVENT
END:VCALENDAR