BEGIN:VCALENDAR
VERSION:2.0
PRODID:-//AITERTC ETS - ECPv6.15.18//NONSGML v1.0//EN
CALSCALE:GREGORIAN
METHOD:PUBLISH
X-ORIGINAL-URL:https://www.aitertc.it/web
X-WR-CALDESC:Events for AITERTC ETS
REFRESH-INTERVAL;VALUE=DURATION:PT1H
X-Robots-Tag:noindex
X-PUBLISHED-TTL:PT1H
BEGIN:VTIMEZONE
TZID:Europe/Paris
BEGIN:DAYLIGHT
TZOFFSETFROM:+0100
TZOFFSETTO:+0200
TZNAME:CEST
DTSTART:20230326T010000
END:DAYLIGHT
BEGIN:STANDARD
TZOFFSETFROM:+0200
TZOFFSETTO:+0100
TZNAME:CET
DTSTART:20231029T010000
END:STANDARD
BEGIN:DAYLIGHT
TZOFFSETFROM:+0100
TZOFFSETTO:+0200
TZNAME:CEST
DTSTART:20240331T010000
END:DAYLIGHT
BEGIN:STANDARD
TZOFFSETFROM:+0200
TZOFFSETTO:+0100
TZNAME:CET
DTSTART:20241027T010000
END:STANDARD
BEGIN:DAYLIGHT
TZOFFSETFROM:+0100
TZOFFSETTO:+0200
TZNAME:CEST
DTSTART:20250330T010000
END:DAYLIGHT
BEGIN:STANDARD
TZOFFSETFROM:+0200
TZOFFSETTO:+0100
TZNAME:CET
DTSTART:20251026T010000
END:STANDARD
END:VTIMEZONE
BEGIN:VEVENT
DTSTART;TZID=Europe/Paris:20241029T173000
DTEND;TZID=Europe/Paris:20241029T190000
DTSTAMP:20260425T123615
CREATED:20240429T152657Z
LAST-MODIFIED:20240906T072146Z
UID:14826-1730223000-1730228400@www.aitertc.it
SUMMARY:CallToAction – 3° Webinar: Seeing more with less? Tecnologia\, applicazioni cliniche e prospettive future della photon counting CT
DESCRIPTION:3° Webinar AITeRTC della serie CallToAction \nmore info
URL:https://www.aitertc.it/web/event/calltoaction-3-webinar/
CATEGORIES:webinar
ATTACH;FMTTYPE=image/png:https://www.aitertc.it/web/wp-content/uploads/2024/04/Presentazione-di-PowerPoint-Presentazione-standard1-04_06_2024-09_22_18.png
END:VEVENT
END:VCALENDAR