BEGIN:VCALENDAR
VERSION:2.0
PRODID:-//AITERTC ETS - ECPv6.15.18//NONSGML v1.0//EN
CALSCALE:GREGORIAN
METHOD:PUBLISH
X-ORIGINAL-URL:https://www.aitertc.it/web
X-WR-CALDESC:Events for AITERTC ETS
REFRESH-INTERVAL;VALUE=DURATION:PT1H
X-Robots-Tag:noindex
X-PUBLISHED-TTL:PT1H
BEGIN:VTIMEZONE
TZID:Europe/Paris
BEGIN:DAYLIGHT
TZOFFSETFROM:+0100
TZOFFSETTO:+0200
TZNAME:CEST
DTSTART:20240331T010000
END:DAYLIGHT
BEGIN:STANDARD
TZOFFSETFROM:+0200
TZOFFSETTO:+0100
TZNAME:CET
DTSTART:20241027T010000
END:STANDARD
BEGIN:DAYLIGHT
TZOFFSETFROM:+0100
TZOFFSETTO:+0200
TZNAME:CEST
DTSTART:20250330T010000
END:DAYLIGHT
BEGIN:STANDARD
TZOFFSETFROM:+0200
TZOFFSETTO:+0100
TZNAME:CET
DTSTART:20251026T010000
END:STANDARD
BEGIN:DAYLIGHT
TZOFFSETFROM:+0100
TZOFFSETTO:+0200
TZNAME:CEST
DTSTART:20260329T010000
END:DAYLIGHT
BEGIN:STANDARD
TZOFFSETFROM:+0200
TZOFFSETTO:+0100
TZNAME:CET
DTSTART:20261025T010000
END:STANDARD
END:VTIMEZONE
BEGIN:VEVENT
DTSTART;TZID=Europe/Paris:20250304T173000
DTEND;TZID=Europe/Paris:20250304T190000
DTSTAMP:20260425T025312
CREATED:20240429T153203Z
LAST-MODIFIED:20250122T075541Z
UID:14833-1741109400-1741114800@www.aitertc.it
SUMMARY:CallToAction – 6° Webinar: Applicazioni di AI in Radiodiagnostica
DESCRIPTION:6° Webinar AITeRTC della serie CallToAction \nmore info
URL:https://www.aitertc.it/web/event/calltoaction-6-webinar/
CATEGORIES:webinar
ATTACH;FMTTYPE=image/png:https://www.aitertc.it/web/wp-content/uploads/2024/04/04.03.png
END:VEVENT
BEGIN:VEVENT
DTSTART;TZID=Europe/Paris:20250318T173000
DTEND;TZID=Europe/Paris:20250318T190000
DTSTAMP:20260425T025312
CREATED:20240429T153823Z
LAST-MODIFIED:20250122T081808Z
UID:14841-1742319000-1742324400@www.aitertc.it
SUMMARY:CallToAction – 7° Webinar: Radiologia Interventistica: Competenze e Tecnologie Innovative per un'Ottimizzazione Avanzata
DESCRIPTION:7° Webinar AITeRTC della serie CallToAction in collaborazione con AITRI \nmore info
URL:https://www.aitertc.it/web/event/calltoaction-10-webinar/
CATEGORIES:webinar
ATTACH;FMTTYPE=image/png:https://www.aitertc.it/web/wp-content/uploads/2024/04/18.3.png
END:VEVENT
END:VCALENDAR