BEGIN:VCALENDAR
VERSION:2.0
PRODID:-//AITERTC ETS - ECPv6.15.18//NONSGML v1.0//EN
CALSCALE:GREGORIAN
METHOD:PUBLISH
X-WR-CALNAME:AITERTC ETS
X-ORIGINAL-URL:https://www.aitertc.it/web
X-WR-CALDESC:Events for AITERTC ETS
REFRESH-INTERVAL;VALUE=DURATION:PT1H
X-Robots-Tag:noindex
X-PUBLISHED-TTL:PT1H
BEGIN:VTIMEZONE
TZID:Europe/Paris
BEGIN:DAYLIGHT
TZOFFSETFROM:+0100
TZOFFSETTO:+0200
TZNAME:CEST
DTSTART:20230326T010000
END:DAYLIGHT
BEGIN:STANDARD
TZOFFSETFROM:+0200
TZOFFSETTO:+0100
TZNAME:CET
DTSTART:20231029T010000
END:STANDARD
BEGIN:DAYLIGHT
TZOFFSETFROM:+0100
TZOFFSETTO:+0200
TZNAME:CEST
DTSTART:20240331T010000
END:DAYLIGHT
BEGIN:STANDARD
TZOFFSETFROM:+0200
TZOFFSETTO:+0100
TZNAME:CET
DTSTART:20241027T010000
END:STANDARD
BEGIN:DAYLIGHT
TZOFFSETFROM:+0100
TZOFFSETTO:+0200
TZNAME:CEST
DTSTART:20250330T010000
END:DAYLIGHT
BEGIN:STANDARD
TZOFFSETFROM:+0200
TZOFFSETTO:+0100
TZNAME:CET
DTSTART:20251026T010000
END:STANDARD
END:VTIMEZONE
BEGIN:VEVENT
DTSTART;TZID=Europe/Paris:20240618T180000
DTEND;TZID=Europe/Paris:20240618T190000
DTSTAMP:20260426T042251
CREATED:20240607T073831Z
LAST-MODIFIED:20240618T121636Z
UID:15641-1718733600-1718737200@www.aitertc.it
SUMMARY:Radiology Academy (Ep. 3) – Aspetti Tecnologici in Cardio-TC
DESCRIPTION:Evento patrocinato AITeRTC more info
URL:https://www.aitertc.it/web/event/radiology-academy-ep-3-aspetti-tecnologici-in-cardio-tc/
CATEGORIES:webinar
ATTACH;FMTTYPE=image/png:https://www.aitertc.it/web/wp-content/uploads/2024/06/Presentazione-di-PowerPoint-AITeRTC-per-Calendario-sito-bis.pptx-07_06_2024-09_50_28.png
END:VEVENT
END:VCALENDAR